{
 "currentVersion": 10.41,
 "serviceDescription": "tdlyxz_2016",
 "mapName": "Layers",
 "description": "",
 "copyrightText": "",
 "supportsDynamicLayers": true,
 "layers": [
  {
   "id": 0,
   "name": "零星地物_2017",
   "parentLayerId": -1,
   "defaultVisibility": true,
   "subLayerIds": null,
   "minScale": 20000,
   "maxScale": 0
  },
  {
   "id": 1,
   "name": "线状地物_2017",
   "parentLayerId": -1,
   "defaultVisibility": true,
   "subLayerIds": null,
   "minScale": 15000,
   "maxScale": 0
  },
  {
   "id": 2,
   "name": "地类图斑_2017",
   "parentLayerId": -1,
   "defaultVisibility": true,
   "subLayerIds": null,
   "minScale": 0,
   "maxScale": 0
  }
 ],
 "tables": [],
 "spatialReference": {
  "wkid": 4527,
  "latestWkid": 4527
 },
 "singleFusedMapCache": true,
 "tileInfo": {
  "rows": 256,
  "cols": 256,
  "dpi": 96,
  "format": "PNG",
  "compressionQuality": 0,
  "origin": {
   "x": 33876800,
   "y": 10002100
  },
  "spatialReference": {
   "wkid": 4527,
   "latestWkid": 4527
  },
  "lods": [
   {
    "level": 0,
    "resolution": 132.2919312505292,
    "scale": 500000
   },
   {
    "level": 1,
    "resolution": 66.1459656252646,
    "scale": 250000
   },
   {
    "level": 2,
    "resolution": 33.0729828126323,
    "scale": 125000
   },
   {
    "level": 3,
    "resolution": 16.933367200067735,
    "scale": 64000
   },
   {
    "level": 4,
    "resolution": 8.466683600033868,
    "scale": 32000
   },
   {
    "level": 5,
    "resolution": 4.233341800016934,
    "scale": 16000
   },
   {
    "level": 6,
    "resolution": 2.116670900008467,
    "scale": 8000
   },
   {
    "level": 7,
    "resolution": 1.0583354500042335,
    "scale": 4000
   },
   {
    "level": 8,
    "resolution": 0.5291677250021167,
    "scale": 2000
   },
   {
    "level": 9,
    "resolution": 0.26458386250105836,
    "scale": 1000
   }
  ]
 },
 "initialExtent": {
  "xmin": 3.9392059507373884E7,
  "ymin": 3700634.4761700234,
  "xmax": 3.9461946527330205E7,
  "ymax": 3742581.7906872914,
  "spatialReference": {
   "wkid": 4527,
   "latestWkid": 4527
  }
 },
 "fullExtent": {
  "xmin": 3.93958341412661E7,
  "ymin": 3691584.9634685433,
  "xmax": 3.9458171893438E7,
  "ymax": 3740153.3703435417,
  "spatialReference": {
   "wkid": 4527,
   "latestWkid": 4527
  }
 },
 "minScale": 500000,
 "maxScale": 1000,
 "units": "esriMeters",
 "supportedImageFormatTypes": "PNG32,PNG24,PNG,JPG,DIB,TIFF,EMF,PS,PDF,GIF,SVG,SVGZ,BMP",
 "documentInfo": {
  "Title": "",
  "Author": "",
  "Comments": "tdlyxz_2016",
  "Subject": "tdlyxz_2016",
  "Category": "",
  "AntialiasingMode": "None",
  "TextAntialiasingMode": "Force",
  "Keywords": "tdlyxz_2016"
 },
 "capabilities": "Map,Query,Data",
 "supportedQueryFormats": "JSON, AMF, geoJSON",
 "exportTilesAllowed": false,
 "maxRecordCount": 1000,
 "maxImageHeight": 4096,
 "maxImageWidth": 4096,
 "supportedExtensions": "KmlServer"
}
