{
 "currentVersion": 10.41,
 "serviceDescription": "",
 "mapName": "Layers",
 "description": "",
 "copyrightText": "",
 "supportsDynamicLayers": false,
 "layers": [
  {
   "id": 0,
   "name": "土地用途区",
   "parentLayerId": -1,
   "defaultVisibility": true,
   "subLayerIds": null,
   "minScale": 0,
   "maxScale": 0
  }
 ],
 "tables": [],
 "spatialReference": {
  "wkid": 4490,
  "latestWkid": 4490
 },
 "singleFusedMapCache": true,
 "tileInfo": {
  "rows": 256,
  "cols": 256,
  "dpi": 96,
  "format": "MIXED",
  "compressionQuality": 75,
  "origin": {
   "x": -400,
   "y": 400
  },
  "spatialReference": {
   "wkid": 4490,
   "latestWkid": 4490
  },
  "lods": [
   {
    "level": 0,
    "resolution": 0.00237946100583028,
    "scale": 1000000
   },
   {
    "level": 1,
    "resolution": 0.00118973050291514,
    "scale": 500000
   },
   {
    "level": 2,
    "resolution": 5.9486525145757E-4,
    "scale": 250000
   },
   {
    "level": 3,
    "resolution": 2.97432625728785E-4,
    "scale": 125000
   },
   {
    "level": 4,
    "resolution": 1.5228550437313792E-4,
    "scale": 64000
   },
   {
    "level": 5,
    "resolution": 7.614275218656896E-5,
    "scale": 32000
   },
   {
    "level": 6,
    "resolution": 3.807137609328448E-5,
    "scale": 16000
   },
   {
    "level": 7,
    "resolution": 1.903568804664224E-5,
    "scale": 8000
   },
   {
    "level": 8,
    "resolution": 9.51784402332112E-6,
    "scale": 4000
   },
   {
    "level": 9,
    "resolution": 4.75892201166056E-6,
    "scale": 2000
   }
  ]
 },
 "initialExtent": {
  "xmin": 88.10690219978711,
  "ymin": 28.220217031672025,
  "xmax": 89.00078272921301,
  "ymax": 28.79867195810004,
  "spatialReference": {
   "wkid": 4490,
   "latestWkid": 4490
  }
 },
 "fullExtent": {
  "xmin": 88.16219675600007,
  "ymin": 27.94242148400008,
  "xmax": 88.94548817300006,
  "ymax": 28.757898126000043,
  "spatialReference": {
   "wkid": 4490,
   "latestWkid": 4490
  }
 },
 "minScale": 1000000,
 "maxScale": 2000,
 "units": "esriDecimalDegrees",
 "supportedImageFormatTypes": "PNG32,PNG24,PNG,JPG,DIB,TIFF,EMF,PS,PDF,GIF,SVG,SVGZ,BMP",
 "documentInfo": {
  "Title": "",
  "Author": "",
  "Comments": "",
  "Subject": "",
  "Category": "",
  "AntialiasingMode": "None",
  "TextAntialiasingMode": "Force",
  "Keywords": ""
 },
 "capabilities": "Map,Query,Data",
 "supportedQueryFormats": "JSON, AMF, geoJSON",
 "exportTilesAllowed": false,
 "maxRecordCount": 1000,
 "maxImageHeight": 4096,
 "maxImageWidth": 4096,
 "supportedExtensions": "KmlServer"
}
